BEGIN:VCALENDAR
VERSION:2.0
PRODID:-//HKJMA/CMS//CALENDAR v20211008-v1//EN
CALSCALE:GREGORIAN
X-WR-TIMEZONE:Asia/Hong_Kong
TZID:Asia/Hong_Kong
BEGIN:VEVENT
DTEND;VALUE=DATE:20260504
UID:upcoming_event-000910
DTSTAMP:20260423T185516
LOCATION:
DESCRIPTION:
URL;VALUE=URI:https://www.jewelry.org.hk/sc/about/upcoming-event-detail.php?upcoming_event_id=910
SUMMARY:【JMA 会员聚会 – 【踏浪寻鲜】西贡滘西湾深度体验之旅 (JMA 会员限定)
DTSTART;VALUE=DATE:20260503
TRANSP:TRANSPARENT
END:VEVENT
END:VCALENDAR
